Package: gpuMagic Version: 1.22.0 Command: rm -rf gpuMagic.buildbin-libdir && mkdir gpuMagic.buildbin-libdir && /Users/biocbuild/BBS/utils/build-universal.sh gpuMagic_1.22.0.tar.gz /Library/Frameworks/R.framework/Resources/bin/R gpuMagic.buildbin-libdir StartedAt: 2025-01-31 12:55:49 -0500 (Fri, 31 Jan 2025) EndedAt: 2025-01-31 12:56:42 -0500 (Fri, 31 Jan 2025) EllapsedTime: 52.9 seconds RetCode: 0 Status: OK PackageFile: gpuMagic_1.22.0.tgz PackageFileSize: 1.489 MiB