Package: goSorensen Version: 1.8.0 Command: /home/biocbuild/bbs-3.20-bioc/R/bin/R CMD INSTALL goSorensen StartedAt: 2025-01-30 15:45:25 -0500 (Thu, 30 Jan 2025) EndedAt: 2025-01-30 15:45:41 -0500 (Thu, 30 Jan 2025) EllapsedTime: 15.6 seconds RetCode: 0 Status: OK