Package: goSorensen Version: 1.8.0 Command: /home/biocbuild/bbs-3.20-bioc/R/bin/R CMD check --install=check:goSorensen.install-out.txt --library=/home/biocbuild/bbs-3.20-bioc/R/site-library --timings goSorensen_1.8.0.tar.gz StartedAt: 2025-01-30 22:45:15 -0500 (Thu, 30 Jan 2025) EndedAt: 2025-01-30 23:00:13 -0500 (Thu, 30 Jan 2025) EllapsedTime: 898.1 seconds RetCode: 0 Status: OK CheckDir: goSorensen.Rcheck Warnings: 0