Package: glmSparseNet Version: 1.24.0 Command: /home/biocbuild/bbs-3.20-bioc/R/bin/R CMD INSTALL glmSparseNet StartedAt: 2025-01-30 15:59:52 -0500 (Thu, 30 Jan 2025) EndedAt: 2025-01-30 15:59:55 -0500 (Thu, 30 Jan 2025) EllapsedTime: 3.2 seconds RetCode: 0 Status: OK