Package: ginmappeR Version: 1.2.1 Command: /home/biocbuild/bbs-3.20-bioc/R/bin/R CMD INSTALL ginmappeR StartedAt: 2024-11-19 16:17:50 -0500 (Tue, 19 Nov 2024) EndedAt: 2024-11-19 16:18:04 -0500 (Tue, 19 Nov 2024) EllapsedTime: 14.4 seconds RetCode: 0 Status: OK