Package: ggcyto Version: 1.34.0 Command: /home/biocbuild/R/R/bin/R CMD build --keep-empty-dirs --no-resave-data ggcyto StartedAt: 2025-01-30 23:54:58 -0000 (Thu, 30 Jan 2025) EndedAt: 2025-01-30 23:57:12 -0000 (Thu, 30 Jan 2025) EllapsedTime: 134.1 seconds RetCode: 0 Status: OK PackageFile: ggcyto_1.34.0.tar.gz PackageFileSize: 19.3 MiB