Package: ggcyto Version: 1.34.0 Command: F:\biocbuild\bbs-3.20-bioc\R\bin\R.exe CMD INSTALL ggcyto StartedAt: 2025-01-30 15:49:01 -0500 (Thu, 30 Jan 2025) EndedAt: 2025-01-30 15:49:59 -0500 (Thu, 30 Jan 2025) EllapsedTime: 57.7 seconds RetCode: 0 Status: OK