Package: ggcyto Version: 1.34.0 Command: rm -rf ggcyto.buildbin-libdir && mkdir ggcyto.buildbin-libdir && F:\biocbuild\bbs-3.20-bioc\R\bin\R.exe CMD INSTALL --build --library=ggcyto.buildbin-libdir ggcyto_1.34.0.tar.gz StartedAt: 2025-01-31 08:45:12 -0500 (Fri, 31 Jan 2025) EndedAt: 2025-01-31 08:46:11 -0500 (Fri, 31 Jan 2025) EllapsedTime: 58.6 seconds RetCode: 0 Status: OK PackageFile: ggcyto_1.34.0.zip PackageFileSize: 2.498 MiB