Package: ggcyto Version: 1.34.0 Command: /Library/Frameworks/R.framework/Resources/bin/R CMD check --install=check:ggcyto.install-out.txt --library=/Library/Frameworks/R.framework/Resources/library --no-vignettes --timings ggcyto_1.34.0.tar.gz StartedAt: 2025-01-31 04:33:02 -0500 (Fri, 31 Jan 2025) EndedAt: 2025-01-31 04:39:10 -0500 (Fri, 31 Jan 2025) EllapsedTime: 367.5 seconds RetCode: 0 Status: WARNINGS CheckDir: ggcyto.Rcheck Warnings: 2