Package: gg4way Version: 1.4.0 Command: chmod a+r gg4way -R && F:\biocbuild\bbs-3.20-bioc\R\bin\R.exe CMD build --keep-empty-dirs --no-resave-data gg4way StartedAt: 2025-01-30 19:12:32 -0500 (Thu, 30 Jan 2025) EndedAt: 2025-01-30 19:17:03 -0500 (Thu, 30 Jan 2025) EllapsedTime: 270.4 seconds RetCode: 0 Status: OK PackageFile: gg4way_1.4.0.tar.gz PackageFileSize: 2.529 MiB