Package: getDEE2 Version: 1.16.2 Command: /home/biocbuild/R/R/bin/R CMD check --install=check:getDEE2.install-out.txt --library=/home/biocbuild/R/R/site-library --no-vignettes --timings getDEE2_1.16.2.tar.gz StartedAt: 2025-01-31 06:41:05 -0000 (Fri, 31 Jan 2025) EndedAt: 2025-01-31 06:47:05 -0000 (Fri, 31 Jan 2025) EllapsedTime: 359.3 seconds RetCode: 0 Status: OK CheckDir: getDEE2.Rcheck Warnings: 0