Package: geneplotter Version: 1.84.0 Command: /home/biocbuild/R/R/bin/R CMD INSTALL geneplotter StartedAt: 2025-01-30 20:23:43 -0000 (Thu, 30 Jan 2025) EndedAt: 2025-01-30 20:24:01 -0000 (Thu, 30 Jan 2025) EllapsedTime: 17.4 seconds RetCode: 0 Status: OK