Package: geneplotter Version: 1.84.0 Command: /home/biocbuild/R/R/bin/R CMD check --install=check:geneplotter.install-out.txt --library=/home/biocbuild/R/R/site-library --no-vignettes --timings geneplotter_1.84.0.tar.gz StartedAt: 2025-01-31 06:31:09 -0000 (Fri, 31 Jan 2025) EndedAt: 2025-01-31 06:33:17 -0000 (Fri, 31 Jan 2025) EllapsedTime: 128.2 seconds RetCode: 0 Status: OK CheckDir: geneplotter.Rcheck Warnings: 0