Package: geneplotter Version: 1.84.0 Command: /home/biocbuild/bbs-3.20-bioc/R/bin/R CMD check --install=check:geneplotter.install-out.txt --library=/home/biocbuild/bbs-3.20-bioc/R/site-library --timings geneplotter_1.84.0.tar.gz StartedAt: 2025-01-30 22:27:49 -0500 (Thu, 30 Jan 2025) EndedAt: 2025-01-30 22:29:54 -0500 (Thu, 30 Jan 2025) EllapsedTime: 125.1 seconds RetCode: 0 Status: OK CheckDir: geneplotter.Rcheck Warnings: 0