Package: genArise Version: 1.82.0 Command: /home/biocbuild/R/R/bin/R CMD check --install=check:genArise.install-out.txt --library=/home/biocbuild/R/R/site-library --no-vignettes --timings genArise_1.82.0.tar.gz StartedAt: 2025-01-31 06:28:24 -0000 (Fri, 31 Jan 2025) EndedAt: 2025-01-31 06:28:58 -0000 (Fri, 31 Jan 2025) EllapsedTime: 34.0 seconds RetCode: 0 Status: WARNINGS CheckDir: genArise.Rcheck Warnings: 1