Package: genArise Version: 1.82.0 Command: /home/biocbuild/R/R/bin/R CMD build --keep-empty-dirs --no-resave-data genArise StartedAt: 2025-01-30 23:45:48 -0000 (Thu, 30 Jan 2025) EndedAt: 2025-01-30 23:46:01 -0000 (Thu, 30 Jan 2025) EllapsedTime: 13.0 seconds RetCode: 0 Status: OK PackageFile: genArise_1.82.0.tar.gz PackageFileSize: 1.01 MiB