Package: genArise Version: 1.82.0 Command: /home/biocbuild/bbs-3.20-bioc/R/bin/R CMD INSTALL genArise StartedAt: 2025-01-30 15:07:19 -0500 (Thu, 30 Jan 2025) EndedAt: 2025-01-30 15:07:36 -0500 (Thu, 30 Jan 2025) EllapsedTime: 17.5 seconds RetCode: 0 Status: OK