Package: genArise Version: 1.82.0 Command: /Library/Frameworks/R.framework/Resources/bin/R CMD INSTALL genArise StartedAt: 2025-01-30 15:12:08 -0500 (Thu, 30 Jan 2025) EndedAt: 2025-01-30 15:12:30 -0500 (Thu, 30 Jan 2025) EllapsedTime: 21.5 seconds RetCode: 0 Status: OK