Package: genArise Version: 1.82.0 Command: rm -rf genArise.buildbin-libdir && mkdir genArise.buildbin-libdir && /Users/biocbuild/BBS/utils/build-universal.sh genArise_1.82.0.tar.gz /Library/Frameworks/R.framework/Resources/bin/R genArise.buildbin-libdir StartedAt: 2025-02-01 15:01:37 -0500 (Sat, 01 Feb 2025) EndedAt: 2025-02-01 15:01:48 -0500 (Sat, 01 Feb 2025) EllapsedTime: 11.5 seconds RetCode: 0 Status: OK PackageFile: genArise_1.82.0.tgz PackageFileSize: 1.241 MiB