Package: gemma.R Version: 3.2.1 Command: /home/biocbuild/bbs-3.20-bioc/R/bin/R CMD INSTALL gemma.R StartedAt: 2025-01-30 15:30:17 -0500 (Thu, 30 Jan 2025) EndedAt: 2025-01-30 15:30:22 -0500 (Thu, 30 Jan 2025) EllapsedTime: 5.1 seconds RetCode: 0 Status: OK