Package: gemma.R Version: 3.2.1 Command: /home/biocbuild/bbs-3.20-bioc/R/bin/R CMD check --install=check:gemma.R.install-out.txt --library=/home/biocbuild/bbs-3.20-bioc/R/site-library --timings gemma.R_3.2.1.tar.gz StartedAt: 2025-01-30 22:25:13 -0500 (Thu, 30 Jan 2025) EndedAt: 2025-01-30 22:36:51 -0500 (Thu, 30 Jan 2025) EllapsedTime: 697.7 seconds RetCode: 0 Status: OK CheckDir: gemma.R.Rcheck Warnings: 0