Package: gemma.R Version: 3.2.1 Command: /Library/Frameworks/R.framework/Resources/bin/R CMD INSTALL gemma.R StartedAt: 2025-01-30 15:54:23 -0500 (Thu, 30 Jan 2025) EndedAt: 2025-01-30 15:54:36 -0500 (Thu, 30 Jan 2025) EllapsedTime: 13.0 seconds RetCode: 0 Status: OK