Package: gemma.R Version: 3.2.1 Command: /Library/Frameworks/R.framework/Resources/bin/R CMD INSTALL gemma.R StartedAt: 2025-01-30 16:35:06 -0500 (Thu, 30 Jan 2025) EndedAt: 2025-01-30 16:35:12 -0500 (Thu, 30 Jan 2025) EllapsedTime: 6.0 seconds RetCode: 0 Status: OK