Package: gcrma Version: 2.78.0 Command: /Library/Frameworks/R.framework/Resources/bin/R CMD INSTALL gcrma StartedAt: 2025-01-30 15:17:39 -0500 (Thu, 30 Jan 2025) EndedAt: 2025-01-30 15:18:05 -0500 (Thu, 30 Jan 2025) EllapsedTime: 26.4 seconds RetCode: 0 Status: OK