Package: gatom Version: 1.4.0 Command: /home/biocbuild/R/R/bin/R CMD INSTALL gatom StartedAt: 2025-01-30 20:38:26 -0000 (Thu, 30 Jan 2025) EndedAt: 2025-01-30 20:38:46 -0000 (Thu, 30 Jan 2025) EllapsedTime: 19.4 seconds RetCode: 0 Status: OK