Package: gatom Version: 1.4.0 Command: /Library/Frameworks/R.framework/Resources/bin/R CMD build --keep-empty-dirs --no-resave-data gatom StartedAt: 2025-01-30 19:15:34 -0500 (Thu, 30 Jan 2025) EndedAt: 2025-01-30 19:25:52 -0500 (Thu, 30 Jan 2025) EllapsedTime: 617.6 seconds RetCode: 0 Status: OK PackageFile: gatom_1.4.0.tar.gz PackageFileSize: 1.611 MiB