Package: gaga Version: 2.52.0 Command: chmod a+r gaga -R && F:\biocbuild\bbs-3.20-bioc\R\bin\R.exe CMD build --keep-empty-dirs --no-resave-data gaga StartedAt: 2025-01-30 19:02:09 -0500 (Thu, 30 Jan 2025) EndedAt: 2025-01-30 19:02:49 -0500 (Thu, 30 Jan 2025) EllapsedTime: 39.6 seconds RetCode: 0 Status: OK PackageFile: gaga_2.52.0.tar.gz PackageFileSize: 434 KiB