Package: gaga Version: 2.52.0 Command: /home/biocbuild/bbs-3.20-bioc/R/bin/R CMD check --install=check:gaga.install-out.txt --library=/home/biocbuild/bbs-3.20-bioc/R/site-library --timings gaga_2.52.0.tar.gz StartedAt: 2025-01-30 22:19:49 -0500 (Thu, 30 Jan 2025) EndedAt: 2025-01-30 22:20:46 -0500 (Thu, 30 Jan 2025) EllapsedTime: 57.1 seconds RetCode: 0 Status: WARNINGS CheckDir: gaga.Rcheck Warnings: 1