Package: gINTomics Version: 1.2.0 Command: /home/biocbuild/R/R/bin/R CMD INSTALL gINTomics StartedAt: 2025-01-30 20:52:04 -0000 (Thu, 30 Jan 2025) EndedAt: 2025-01-30 20:53:35 -0000 (Thu, 30 Jan 2025) EllapsedTime: 90.2 seconds RetCode: 0 Status: OK