Package: gINTomics Version: 1.2.0 Command: /home/biocbuild/R/R/bin/R CMD build --keep-empty-dirs --no-resave-data gINTomics StartedAt: 2025-01-30 23:57:02 -0000 (Thu, 30 Jan 2025) EndedAt: 2025-01-31 00:00:01 -0000 (Fri, 31 Jan 2025) EllapsedTime: 179.1 seconds RetCode: 0 Status: OK PackageFile: gINTomics_1.2.0.tar.gz PackageFileSize: 3.546 MiB