Package: gINTomics Version: 1.2.0 Command: rm -rf gINTomics.buildbin-libdir && mkdir gINTomics.buildbin-libdir && /Users/biocbuild/BBS/utils/build-universal.sh gINTomics_1.2.0.tar.gz /Library/Frameworks/R.framework/Resources/bin/R gINTomics.buildbin-libdir StartedAt: 2025-01-31 12:54:29 -0500 (Fri, 31 Jan 2025) EndedAt: 2025-01-31 12:57:10 -0500 (Fri, 31 Jan 2025) EllapsedTime: 161.3 seconds RetCode: 0 Status: OK PackageFile: gINTomics_1.2.0.tgz PackageFileSize: 3.847 MiB