Package: gDRcore Version: 1.4.0 Command: /home/biocbuild/bbs-3.20-bioc/R/bin/R CMD build --keep-empty-dirs --no-resave-data --md5 gDRcore StartedAt: 2025-01-30 17:20:41 -0500 (Thu, 30 Jan 2025) EndedAt: 2025-01-30 17:21:22 -0500 (Thu, 30 Jan 2025) EllapsedTime: 41.0 seconds RetCode: 0 Status: OK PackageFile: gDRcore_1.4.0.tar.gz PackageFileSize: 1.096 MiB