Package: gDRcore Version: 1.4.0 Command: /Library/Frameworks/R.framework/Resources/bin/R CMD build --keep-empty-dirs --no-resave-data gDRcore StartedAt: 2024-11-19 16:54:42 -0500 (Tue, 19 Nov 2024) EndedAt: 2024-11-19 16:55:37 -0500 (Tue, 19 Nov 2024) EllapsedTime: 54.7 seconds RetCode: 0 Status: OK PackageFile: gDRcore_1.4.0.tar.gz PackageFileSize: 1.09 MiB