Package: gDR Version: 1.4.0 Command: /home/biocbuild/bbs-3.20-bioc/R/bin/R CMD check --install=check:gDR.install-out.txt --library=/home/biocbuild/bbs-3.20-bioc/R/site-library --timings gDR_1.4.0.tar.gz StartedAt: 2025-01-30 22:22:48 -0500 (Thu, 30 Jan 2025) EndedAt: 2025-01-30 22:26:01 -0500 (Thu, 30 Jan 2025) EllapsedTime: 192.2 seconds RetCode: 0 Status: OK CheckDir: gDR.Rcheck Warnings: 0