Package: gCrisprTools Version: 2.12.0 Command: /home/biocbuild/bbs-3.20-bioc/R/bin/R CMD check --install=check:gCrisprTools.install-out.txt --library=/home/biocbuild/bbs-3.20-bioc/R/site-library --timings gCrisprTools_2.12.0.tar.gz StartedAt: 2025-01-30 22:21:57 -0500 (Thu, 30 Jan 2025) EndedAt: 2025-01-30 22:30:50 -0500 (Thu, 30 Jan 2025) EllapsedTime: 532.6 seconds RetCode: 0 Status: OK CheckDir: gCrisprTools.Rcheck Warnings: 0