Package: frmaTools Version: 1.58.0 Command: F:\biocbuild\bbs-3.20-bioc\R\bin\R.exe CMD INSTALL frmaTools StartedAt: 2025-01-30 15:25:22 -0500 (Thu, 30 Jan 2025) EndedAt: 2025-01-30 15:25:31 -0500 (Thu, 30 Jan 2025) EllapsedTime: 8.9 seconds RetCode: 0 Status: OK