Package: frmaTools Version: 1.58.0 Command: rm -rf frmaTools.buildbin-libdir && mkdir frmaTools.buildbin-libdir && F:\biocbuild\bbs-3.20-bioc\R\bin\R.exe CMD INSTALL --build --library=frmaTools.buildbin-libdir frmaTools_1.58.0.tar.gz StartedAt: 2025-01-31 08:41:03 -0500 (Fri, 31 Jan 2025) EndedAt: 2025-01-31 08:41:15 -0500 (Fri, 31 Jan 2025) EllapsedTime: 11.2 seconds RetCode: 0 Status: OK PackageFile: frmaTools_1.58.0.zip PackageFileSize: 106.3 KiB