Package: frmaTools Version: 1.58.0 Command: /Library/Frameworks/R.framework/Resources/bin/R CMD build --keep-empty-dirs --no-resave-data frmaTools StartedAt: 2025-01-30 23:53:40 -0500 (Thu, 30 Jan 2025) EndedAt: 2025-01-30 23:54:03 -0500 (Thu, 30 Jan 2025) EllapsedTime: 22.7 seconds RetCode: 0 Status: OK PackageFile: frmaTools_1.58.0.tar.gz PackageFileSize: 157.9 KiB