Package: fobitools Version: 1.14.0 Command: /Library/Frameworks/R.framework/Resources/bin/R CMD check --install=check:fobitools.install-out.txt --library=/Library/Frameworks/R.framework/Resources/library --no-vignettes --timings fobitools_1.14.0.tar.gz StartedAt: 2025-01-31 04:04:08 -0500 (Fri, 31 Jan 2025) EndedAt: 2025-01-31 04:12:13 -0500 (Fri, 31 Jan 2025) EllapsedTime: 485.3 seconds RetCode: 0 Status: OK CheckDir: fobitools.Rcheck Warnings: 0