Package: fmrs Version: 1.16.0 Command: /home/biocbuild/R/R/bin/R CMD check --install=check:fmrs.install-out.txt --library=/home/biocbuild/R/R/site-library --no-vignettes --timings fmrs_1.16.0.tar.gz StartedAt: 2025-01-31 06:21:53 -0000 (Fri, 31 Jan 2025) EndedAt: 2025-01-31 06:22:45 -0000 (Fri, 31 Jan 2025) EllapsedTime: 52.1 seconds RetCode: 0 Status: OK CheckDir: fmrs.Rcheck Warnings: 0