Package: fmcsR Version: 1.48.0 Command: F:\biocbuild\bbs-3.20-bioc\R\bin\R.exe CMD INSTALL fmcsR StartedAt: 2025-01-30 16:50:27 -0500 (Thu, 30 Jan 2025) EndedAt: 2025-01-30 16:50:53 -0500 (Thu, 30 Jan 2025) EllapsedTime: 25.8 seconds RetCode: 0 Status: OK