Package: flowWorkspace Version: 4.18.0 Command: /home/biocbuild/R/R/bin/R CMD INSTALL flowWorkspace StartedAt: 2025-01-30 20:18:28 -0000 (Thu, 30 Jan 2025) EndedAt: 2025-01-30 20:21:45 -0000 (Thu, 30 Jan 2025) EllapsedTime: 197.3 seconds RetCode: 0 Status: OK