Package: flowWorkspace Version: 4.18.0 Command: F:\biocbuild\bbs-3.20-bioc\R\bin\R.exe CMD INSTALL flowWorkspace StartedAt: 2025-01-30 15:46:23 -0500 (Thu, 30 Jan 2025) EndedAt: 2025-01-30 15:48:32 -0500 (Thu, 30 Jan 2025) EllapsedTime: 128.7 seconds RetCode: 1 Status: ERROR