Package: flowWorkspace Version: 4.18.0 Command: F:\biocbuild\bbs-3.20-bioc\R\bin\R.exe CMD check --no-multiarch --install=check:flowWorkspace.install-out.txt --library=F:\biocbuild\bbs-3.20-bioc\R\library --no-vignettes --timings flowWorkspace_4.18.0.tar.gz StartedAt: 2025-01-24 01:55:58 -0500 (Fri, 24 Jan 2025) EndedAt: 2025-01-24 02:02:30 -0500 (Fri, 24 Jan 2025) EllapsedTime: 391.7 seconds RetCode: 0 Status: WARNINGS CheckDir: flowWorkspace.Rcheck Warnings: 5