Package: flowWorkspace Version: 4.18.0 Command: chmod a+r flowWorkspace -R && F:\biocbuild\bbs-3.20-bioc\R\bin\R.exe CMD build --keep-empty-dirs --no-resave-data flowWorkspace StartedAt: 2025-01-30 19:00:51 -0500 (Thu, 30 Jan 2025) EndedAt: 2025-01-30 19:04:37 -0500 (Thu, 30 Jan 2025) EllapsedTime: 225.9 seconds RetCode: 1 Status: ERROR PackageFile: None PackageFileSize: NA