Package: flowViz Version: 1.70.0 Command: /home/biocbuild/R/R/bin/R CMD check --install=check:flowViz.install-out.txt --library=/home/biocbuild/R/R/site-library --no-vignettes --timings flowViz_1.70.0.tar.gz StartedAt: 2025-01-31 06:21:26 -0000 (Fri, 31 Jan 2025) EndedAt: 2025-01-31 06:23:55 -0000 (Fri, 31 Jan 2025) EllapsedTime: 148.2 seconds RetCode: 0 Status: OK CheckDir: flowViz.Rcheck Warnings: 0