Package: flowTrans Version: 1.58.0 Command: /home/biocbuild/bbs-3.20-bioc/R/bin/R CMD check --install=check:flowTrans.install-out.txt --library=/home/biocbuild/bbs-3.20-bioc/R/site-library --timings flowTrans_1.58.0.tar.gz StartedAt: 2025-01-30 22:18:01 -0500 (Thu, 30 Jan 2025) EndedAt: 2025-01-30 22:19:11 -0500 (Thu, 30 Jan 2025) EllapsedTime: 70.1 seconds RetCode: 0 Status: OK CheckDir: flowTrans.Rcheck Warnings: 0