Package: flowTime Version: 1.30.0 Command: /home/biocbuild/R/R/bin/R CMD build --keep-empty-dirs --no-resave-data flowTime StartedAt: 2025-01-30 23:40:30 -0000 (Thu, 30 Jan 2025) EndedAt: 2025-01-30 23:41:13 -0000 (Thu, 30 Jan 2025) EllapsedTime: 43.0 seconds RetCode: 0 Status: OK PackageFile: flowTime_1.30.0.tar.gz PackageFileSize: 2.233 MiB