Package: flowTime Version: 1.30.0 Command: /Library/Frameworks/R.framework/Resources/bin/R CMD build --keep-empty-dirs --no-resave-data flowTime StartedAt: 2025-01-30 19:11:47 -0500 (Thu, 30 Jan 2025) EndedAt: 2025-01-30 19:13:15 -0500 (Thu, 30 Jan 2025) EllapsedTime: 87.3 seconds RetCode: 0 Status: OK PackageFile: flowTime_1.30.0.tar.gz PackageFileSize: 2.596 MiB