Package: flowStats Version: 4.18.0 Command: /Library/Frameworks/R.framework/Resources/bin/R CMD check --install=check:flowStats.install-out.txt --library=/Library/Frameworks/R.framework/Resources/library --no-vignettes --timings flowStats_4.18.0.tar.gz StartedAt: 2024-11-19 22:10:32 -0500 (Tue, 19 Nov 2024) EndedAt: 2024-11-19 22:16:43 -0500 (Tue, 19 Nov 2024) EllapsedTime: 370.3 seconds RetCode: 0 Status: WARNINGS CheckDir: flowStats.Rcheck Warnings: 4